Workbook
Name その他業務: '申請書（様式1-2）'!$CC$35:$CJ$35
Name その他物品: '申請書（様式1-2）'!$CC$26:$CJ$26
Name リース・レンタル: '申請書（様式1-2）'!$CC$34:$CG$34
Name 医療器具・薬品: '申請書（様式1-2）'!$CC$21:$CG$21
Name 印刷: '申請書（様式1-2）'!$CC$16:$CF$16
Name 企画・制作: '申請書（様式1-2）'!$CC$32:$CG$32
Name 機械器具: '申請書（様式1-2）'!$CC$19:$CG$19
Name 教育用品: '申請書（様式1-2）'!$CC$17:$CF$17
Name 警備・受付: '申請書（様式1-2）'!$CC$29:$CE$29
Name 建設資材: '申請書（様式1-2）'!$CC$23:$CH$23
Name 施設管理: '申請書（様式1-2）'!$CC$28:$CF$28
Name 事務用品: '申請書（様式1-2）'!$CC$15:$CF$15
Name 車両: '申請書（様式1-2）'!$CC$22:$CG$22
Name 情報処理: '申請書（様式1-2）'!$CC$33:$CE$33
Name 精密機器: '申請書（様式1-2）'!$CC$20:$CE$20
Name 調査・測定: '申請書（様式1-2）'!$CC$31:$CE$31
Name 電気器具: '申請書（様式1-2）'!$CC$18:$CE$18
Name 日用品: '申請書（様式1-2）'!$CC$25:$CH$25
Name 燃料: '申請書（様式1-2）'!$CC$24:$CE$24
Name 廃棄物処理: '申請書（様式1-2）'!$CC$27:$CE$27
Name 保守管理: '申請書（様式1-2）'!$CC$30:$CI$30

Sheet 申請書（様式1-1）
B1: （様式１－１）
B2: 受付番号 | P2: 業者コード | AC2: 所在区分 | AG2: 市内 準市内 県内 準県内 県外
A5: 入札参加資格審査申請書（物品製造・購入・委託業務等）
A8: 令和９・１０年度において真岡市で行われる物品製造・購入・委託業務等に係る競争入札に参加する資格の
A9: 審査を申請します。
A10: なお、この申請書及び添付書類の内容については、事実と相違ないことを誓約します。
A11: また、この登録に係る審査、有資格者名簿登録期間中における資格要件の確認のため、市税納付状況について
A12: 真岡市が調査確認すること、及び入札参加資格者名簿を公表することに同意します。
D14: 令和 | I14: 年 | M14: 月 | Q14: 日 | AC14: 真岡市長 様
AF16: 新規・更新の区分
A19: ◆申請者
B20: 商号又は名称 | J20: フリガナ | AO20: 代表者印
B22: 代表者役職名
B23: 代表者氏名 | J23: フリガナ
A26: ◆主たる営業所＜本店＞
B27: 郵便番号 | J27: 〒 | P27: －
B28: 住所又は所在地
B29: 登記簿上の所在地 (所在地と違う場合)
B30: 電話番号 | N30: － | S30: － | Z30: ＦＡＸ番号 | AL30: － | AQ30: －
B31: メールアドレス
A33: ◆委任を受けた営業所等＜委任のない場合は記入しない＞
B34: 営業所等の名称 | J34: フリガナ
B36: 代理人役職名
B37: 代理人氏名 | J37: フリガナ
B39: 郵便番号 | J39: 〒 | P39: －
B40: 住所又は所在地
B41: 電話番号 | N41: － | S41: － | Z41: ＦＡＸ番号 | AL41: － | AQ41: －
B42: メールアドレス
A44: ◆申請内容の問い合わせ先
B45: 部署名 | Z45: 担当者名
B46: 電話番号 | N46: － | S46: － | Z46: ＦＡＸ番号 | AL46: － | AQ46: －
B47: メールアドレス

Sheet 申請書（様式1-2）
A1: （様式１－２） | Z1: 商号又は名称 | AH1: =IF('申請書（様式1-1）'!J21="","",'申請書（様式1-1）'!J21)
A4: ◆財務関係その他
B5: 資本金 （法人のみ) | U5: 千円 | Z5: 営業年数 | AV5: 年
B6: 自己資本額 （法人のみ) | U6: 千円 | Z6: 総従業員数 | AV6: 人
B7: 流動資産(a) | U7: 千円
B8: 流動負債(b) | U8: 千円
B9: 流動比率 (a/b×100) | H9: =IF(H8="","",H7/H8*100) | U9: ％
A12: ◆入札参加を希望する業種情報 | CA12: 希望選択 | CL12: 小分類品目等
B13: 決算日 | N13: 令和 | T13: 年 | Y13: 月 | AD13: 日 | BB13: ="" | CA13: 大分類 | CC13: 小分類 | CL13: 番号 | CM13: 品目等
B14: 入札参加を希望する業種 | CA14: 記号 | CB14: 種目 | CC14: 番号 | CL14: Ａ1 | CM14: 用紙・文具
B15: 大分類 | T15: 小分類 | AL15: 「L-8その他物品(その他)」及び「U-8その他業務(その他)」に係る具体的な内容 | CA15: Ａ | CB15: 事務用品 | CC15: 1 | CD15: 2 | CE15: 3 | CF15: 4 | CL15: Ａ2 | CM15: 事務用機器
B16: 記号 | F16: 種目 | T16: 番号 | X16: 品目等 | CA16: Ｂ | CB16: 印刷 | CC16: 1 | CD16: 2 | CE16: 3 | CF16: 4 | CL16: Ａ3 | CM16: 事務用家具
F17: =IF(B17="","",VLOOKUP(B17,$CA$15:$CB$35,2)) | X17: =IF(OR(B17="",T17=""),"",IF(ISERROR(VLOOKUP(B17&T17,$CL$14:$CM$110,2,FALSE)),"小分類の番号を確認してください。",VLOOKUP(B17&T17,$CL$14:$CM$110,2,FALSE))) | CA17: Ｃ | CB17: 教育用品 | CC17: 1 | CD17: 2 | CE17: 3 | CF17: 4 | CL17: Ａ4 | CM17: 印章
F18: =IF(B18="","",VLOOKUP(B18,$CA$15:$CB$35,2)) | X18: =IF(OR(B18="",T18=""),"",IF(ISERROR(VLOOKUP(B18&T18,$CL$14:$CM$110,2,FALSE)),"小分類の番号を確認してください。",VLOOKUP(B18&T18,$CL$14:$CM$110,2,FALSE))) | CA18: Ｄ | CB18: 電気器具 | CC18: 1 | CD18: 2 | CE18: 3 | CL18: Ｂ1 | CM18: 一般印刷
F19: =IF(B19="","",VLOOKUP(B19,$CA$15:$CB$35,2)) | X19: =IF(OR(B19="",T19=""),"",IF(ISERROR(VLOOKUP(B19&T19,$CL$14:$CM$110,2,FALSE)),"小分類の番号を確認してください。",VLOOKUP(B19&T19,$CL$14:$CM$110,2,FALSE))) | CA19: Ｅ | CB19: 機械器具 | CC19: 1 | CD19: 2 | CE19: 3 | CF19: 4 | CG19: 5 | CL19: Ｂ2 | CM19: 特殊印刷
F20: =IF(B20="","",VLOOKUP(B20,$CA$15:$CB$35,2)) | X20: =IF(OR(B20="",T20=""),"",IF(ISERROR(VLOOKUP(B20&T20,$CL$14:$CM$110,2,FALSE)),"小分類の番号を確認してください。",VLOOKUP(B20&T20,$CL$14:$CM$110,2,FALSE))) | CA20: Ｆ | CB20: 精密機器 | CC20: 1 | CD20: 2 | CE20: 3 | CL20: Ｂ3 | CM20: 地図印刷
F21: =IF(B21="","",VLOOKUP(B21,$CA$15:$CB$35,2)) | X21: =IF(OR(B21="",T21=""),"",IF(ISERROR(VLOOKUP(B21&T21,$CL$14:$CM$110,2,FALSE)),"小分類の番号を確認してください。",VLOOKUP(B21&T21,$CL$14:$CM$110,2,FALSE))) | CA21: Ｇ | CB21: 医療器具・薬品 | CC21: 1 | CD21: 2 | CE21: 3 | CF21: 4 | CG21: 5 | CL21: Ｂ4 | CM21: 写真
F22: =IF(B22="","",VLOOKUP(B22,$CA$15:$CB$35,2)) | X22: =IF(OR(B22="",T22=""),"",IF(ISERROR(VLOOKUP(B22&T22,$CL$14:$CM$110,2,FALSE)),"小分類の番号を確認してください。",VLOOKUP(B22&T22,$CL$14:$CM$110,2,FALSE))) | CA22: Ｈ | CB22: 車両 | CC22: 1 | CD22: 2 | CE22: 3 | CF22: 4 | CG22: 5 | CL22: Ｃ1 | CM22: 教育・啓発用品
F23: =IF(B23="","",VLOOKUP(B23,$CA$15:$CB$35,2)) | X23: =IF(OR(B23="",T23=""),"",IF(ISERROR(VLOOKUP(B23&T23,$CL$14:$CM$110,2,FALSE)),"小分類の番号を確認してください。",VLOOKUP(B23&T23,$CL$14:$CM$110,2,FALSE))) | CA23: Ｉ | CB23: 建設資材 | CC23: 1 | CD23: 2 | CE23: 3 | CF23: 4 | CG23: 5 | CH23: 6 | CL23: Ｃ2 | CM23: 運動用品・遊具
F24: =IF(B24="","",VLOOKUP(B24,$CA$15:$CB$35,2)) | X24: =IF(OR(B24="",T24=""),"",IF(ISERROR(VLOOKUP(B24&T24,$CL$14:$CM$110,2,FALSE)),"小分類の番号を確認してください。",VLOOKUP(B24&T24,$CL$14:$CM$110,2,FALSE))) | CA24: Ｊ | CB24: 燃料 | CC24: 1 | CD24: 2 | CE24: 3 | CL24: Ｃ3 | CM24: 楽器・音楽メディア
F25: =IF(B25="","",VLOOKUP(B25,$CA$15:$CB$35,2)) | X25: =IF(OR(B25="",T25=""),"",IF(ISERROR(VLOOKUP(B25&T25,$CL$14:$CM$110,2,FALSE)),"小分類の番号を確認してください。",VLOOKUP(B25&T25,$CL$14:$CM$110,2,FALSE))) | CA25: Ｋ | CB25: 日用品 | CC25: 1 | CD25: 2 | CE25: 3 | CF25: 4 | CG25: 5 | CH25: 6 | CL25: Ｃ4 | CM25: 書籍
F26: =IF(B26="","",VLOOKUP(B26,$CA$15:$CB$35,2)) | X26: =IF(OR(B26="",T26=""),"",IF(ISERROR(VLOOKUP(B26&T26,$CL$14:$CM$110,2,FALSE)),"小分類の番号を確認してください。",VLOOKUP(B26&T26,$CL$14:$CM$110,2,FALSE))) | CA26: Ｌ | CB26: その他物品 | CC26: 1 | CD26: 2 | CE26: 3 | CF26: 4 | CG26: 5 | CH26: 6 | CI26: 7 | CJ26: 8 | CL26: Ｄ1 | CM26: 電気製品
B27: ※別紙「業種区分表」の中から該当する希望業種を選び、大分類及び小分類を記入してください。ただし、希望できる | CA27: Ｍ | CB27: 廃棄物処理 | CC27: 1 | CD27: 2 | CE27: 3 | CL27: Ｄ2 | CM27: 通信機器
B28: 業種は、最大１０業種とします。 | CA28: Ｎ | CB28: 施設管理 | CC28: 1 | CD28: 2 | CE28: 3 | CF28: 4 | CL28: Ｄ3 | CM28: 電気設備
B29: ※大分類の「L：その他物品」及び「U：その他業務」のうち、小分類の「8：その他」を希望する場合は、その業種内容を | CA29: Ｏ | CB29: 警備・受付 | CC29: 1 | CD29: 2 | CE29: 3 | CL29: Ｅ1 | CM29: 建設機械
B30: 具体的に記入してください。 | CA30: Ｐ | CB30: 保守管理 | CC30: 1 | CD30: 2 | CE30: 3 | CF30: 4 | CG30: 5 | CH30: 6 | CI30: 7 | CL30: Ｅ2 | CM30: 工作機械
CA31: Ｑ | CB31: 調査・測定 | CC31: 1 | CD31: 2 | CE31: 3 | CL31: Ｅ3 | CM31: 農業機械
CA32: Ｒ | CB32: 企画・制作 | CC32: 1 | CD32: 2 | CE32: 3 | CF32: 4 | CG32: 5 | CL32: Ｅ4 | CM32: 厨房機器
A33: ◆希望業種に関する許認可・登録等 | CA33: Ｓ | CB33: 情報処理 | CC33: 1 | CD33: 2 | CE33: 3 | CL33: Ｅ5 | CM33: その他機械器具
B34: 許認可・登録等の名称 | AL34: 許可年月日 | CA34: Ｔ | CB34: リース・レンタル | CC34: 1 | CD34: 2 | CE34: 3 | CF34: 4 | CG34: 5 | CL34: Ｆ1 | CM34: 光学機器
CA35: Ｕ | CB35: その他業務 | CC35: 1 | CD35: 2 | CE35: 3 | CF35: 4 | CG35: 5 | CH35: 6 | CI35: 7 | CJ35: 8 | CL35: Ｆ2 | CM35: 理化学機器
CL36: Ｆ3 | CM36: 計測機器
CL37: Ｇ1 | CM37: 医療用機器
CL38: Ｇ2 | CM38: 医薬品
CL39: Ｇ3 | CM39: 衛生材料
CL40: Ｇ4 | CM40: 工業薬品
CL41: Ｇ5 | CM41: 福祉機器・介護用具
CL42: Ｈ1 | CM42: 自動車
CL43: Ｈ2 | CM43: 二輪車
CL44: Ｈ3 | CM44: バス・トラック
...

Sheet 委任状（様式２）
A1: （様式２）
S2: 令和 | V2: =IF('申請書（様式1-1）'!G14="","",'申請書（様式1-1）'!G14) | X2: 年 | Z2: =IF('申請書（様式1-1）'!K14="","",'申請書（様式1-1）'!K14) | AB2: 月 | AD2: =IF('申請書（様式1-1）'!O14="","",'申請書（様式1-1）'!O14) | AF2: 日
A3: 委 任 状
B5: 真 岡 市 長 様
J8: 住所 | L8: =IF('申請書（様式1-1）'!J28="","",'申請書（様式1-1）'!J28)
J9: 商号 | L9: =IF('申請書（様式1-1）'!J21="","",'申請書（様式1-1）'!J21)
J10: 代表者名 | L10: =IF('申請書（様式1-1）'!J22="","",'申請書（様式1-1）'!J22) | R10: =IF('申請書（様式1-1）'!$J$24="","",'申請書（様式1-1）'!$J$24)
A12: 私は、次の者を代理人と定め、当該資格審査申請にかかる入札参加資格の有効期間内において下記の権限を委任します。
A14: 記
B15: 委任事項
B16: ・入札及び見積に関すること。
B17: ・契約の締結、代金の請求及び受領に関すること。
B18: ・請負代金の請求及び受領に関すること。
B19: ・その他付帯事項一切。
B20: ・上記各項に対して、復代理人の選任及び解任。
A23: 受任者に関すること | B23: フリガナ | F23: =IF('申請書（様式1-1）'!$N$34="","",'申請書（様式1-1）'!$N$34)
B24: 営業所等の名称 | F24: =IF('申請書（様式1-1）'!$J$35="","",'申請書（様式1-1）'!$J$35)
B25: 代理人役職名 | F25: =IF('申請書（様式1-1）'!$J$36="","",'申請書（様式1-1）'!$J$36)
B26: フリガナ | F26: =IF('申請書（様式1-1）'!$N$37="","",'申請書（様式1-1）'!$N$37)
B27: 代理人氏名 | F27: =IF('申請書（様式1-1）'!$J$38="","",'申請書（様式1-1）'!$J$38)
B28: 郵便番号 | F28: 〒 | G28: =IF('申請書（様式1-1）'!L39="","",'申請書（様式1-1）'!L39) | J28: - | K28: =IF('申請書（様式1-1）'!R39="","",'申請書（様式1-1）'!R39)
B29: 住所又は所在地 | F29: =IF('申請書（様式1-1）'!$J$40="","",'申請書（様式1-1）'!$J$40)
B30: 電話番号 | F30: =IF('申請書（様式1-1）'!J41="","",'申請書（様式1-1）'!J41) | J30: - | K30: =IF('申請書（様式1-1）'!O41="","",'申請書（様式1-1）'!O41) | O30: - | P30: =IF('申請書（様式1-1）'!T41="","",'申請書（様式1-1）'!T41)

Sheet 誓約書（暴力団排除）（様式3）
A1: （様式３）
A3: 誓 約 書
AF7: 令和 | AI7: =IF('申請書（様式1-1）'!G14="","",'申請書（様式1-1）'!G14) | AK7: 年 | AM7: =IF('申請書（様式1-1）'!K14="","",'申請書（様式1-1）'!K14) | AO7: 月 | AQ7: =IF('申請書（様式1-1）'!O14="","",'申請書（様式1-1）'!O14) | AS7: 日
B10: 真 岡 市 長 様
R13: 住所又は所在地 | AA13: =IF('申請書（様式1-1）'!J28="","",'申請書（様式1-1）'!J28)
R15: 商号又は名称 | AA15: =IF('申請書（様式1-1）'!J21="","",'申請書（様式1-1）'!J21)
R17: 代表者職・氏名 | AA17: =IF('申請書（様式1-1）'!J22="","",'申請書（様式1-1）'!J22) | AJ17: =IF('申請書（様式1-1）'!J24="","",'申請書（様式1-1）'!J24) | AT17: ㊞
A20: 私は、真岡市（以下「市」という。）が真岡市暴力団排除条例に基づき、公共工事その他の市の 事務又は事業により暴力団を利することとならないように、暴力団員はもとより、暴力団若しくは 暴力団員と密接な関係を有する者を入札及び契約から排除していることを確認したうえで、下記事 項について、誓約いたします。 なお、これらの事項に反する場合、契約の解除等、市が行う一切の措置について異議の申し立て を行いません。 また、本誓約書に係る誓約事項の確認のため、役員名簿等の提出を求められたときは、速やかに 提出し、市がこれを警察に提供することについて同意します。 記 （１）自社（法人企業、個人企業及び団体をいう。以下同じ。）は、暴力団（暴力団員による不当 な行為の防止等に関する法律（平成３年法律第７７号）第２条第２号に規定する暴力団をいう。 以下同じ。）ではありません。 （２）自社の役員等は、暴力団員（暴力団員による不当な行為の防止等に関する法律第２条第６号 に規定する暴力団をいう。以下同じ。）ではありません。 （３）暴力団又は暴力団員が、その経営又は運営に実質的に関与していることはありません。 （４）暴力団員であることを知りながら、暴力団員を雇用し、又は使用していることはありません。 （５）暴力団又は暴力団員であることを知りながら、その者と下請契約等又は資材、原材料等の購 入契約等を締結することはありません。 （６）暴力団員である事実を知らずに、暴力団員を雇用している場合又は暴力団若しくは暴力団員 である事実を知らずに、その者と下請契約等若しくは資材、原材料等の購入契約等を締結した 場合においては、当該事実の判明後すみやかに、措置を講じます。 （７）自社又は自社の役員等は、自己若しくは第三者の不正の利益を図る目的又は第三者に損害を 与える目的をもって、暴力団又は暴力団員を利用することはありません。 （８）自社又は自社の役員等は、暴力団若しくは暴力団員に対して資金等を供給し、又は便宜を供 与するなど直接的あるいは積極的に暴力団の維持運営に協力し、若しくは関与していることは ありません。 （９）自社又は自社の役員等は、暴力団又は暴力団員と密接な交際を有し、又は社会的に非難され る関係を有していることはありません。 （10）自社又は下請契約の相手方が暴力団等から不当要求を受けたときは、すみやかに、その旨を 市、警察署、その他の関係機関に通報します。

Sheet 申請書類確認票
A1: 令和９・１０年度入札参加資格審査申請書類確認票 （物品製造・購入・委託業務等用）
A6: 住所又は所在地 | J6: =IF('申請書（様式1-1）'!$J$28="","",'申請書（様式1-1）'!$J$28) | AL6: 真岡市受付欄
A8: 商号又は名称 | J8: =IF('申請書（様式1-1）'!$J$21="","",'申請書（様式1-1）'!$J$21)
A10: 代表者職・氏名 | J10: =IF('申請書（様式1-1）'!$J$22="","",'申請書（様式1-1）'!$J$22) | U10: =IF('申請書（様式1-1）'!$J$24="","",'申請書（様式1-1）'!$J$24)
A12: 注）提出書類に不足等がないかどうか、申請者の確認欄にチェックし、次の番号順にクリアホルダーに入れて
A13: ください。
A14: 「○」は必ず提出を要するもの、「△」は該当者のみ提出を要するもの、「―」は提出を要しないものを
A15: 示しています。
A17: 番号 | C17: 資格審査申請書類等 | AL17: 市内 業者 | AO17: 市外 業者 | AR17: 確認欄 | CA17: レ
AR18: 申請者 | AU18: 市
A19: 1 | C19: 入札参加資格審査申請書（様式１－１、１－２） | AL19: ○ | AO19: ○
A20: 2 | C20: 委任状（様式２） ※委任がある場合のみ | AL20: ― | AO20: △
A21: 3 | C21: 誓約書（暴力団排除）（様式３） | AL21: ○ | AO21: ○
A22: 4 | C22: 商業登記簿謄本又は身分証明書（写し可） | AL22: ○ | AO22: ○
A23: 5 | C23: 国税の納税証明書（写し可） | AL23: ○ | AO23: ○
A24: 6 | C24: 真岡市税を完納していることの証明書（写し可） | AL24: ― | AO24: △
A25: 7 | C25: 財務諸表 | AL25: ○ | AO25: ○
A26: 8 | C26: 様式１－１、１－２の写し（ホチキス留め） | AL26: ○ | AO26: ○
A27: 9 | C27: 返信用封筒（長形３号又は長形４０号、１通） | AL27: ○ | AO27: ○
A28: 10 | C28: 書類確認票（物品製造・購入・委託業務等用） | AL28: ○ | AO28: ○
A29: 11 | C29: クリアホルダー（Ａ４、見出し付、透明） | AL29: ○ | AO29: ○
A32: （切り取らずに提出してください。）
A35: 令和９・１０年度入札参加資格審査申請書類受付票（物品製造・購入・委託業務等）
A38: 住所又は所在地 | J38: =IF('申請書（様式1-1）'!$J$28="","",'申請書（様式1-1）'!$J$28) | AL38: 真岡市受付欄
A40: 商号又は名称 | J40: =IF('申請書（様式1-1）'!$J$21="","",'申請書（様式1-1）'!$J$21)
A42: 代表者職・氏名 | J42: =IF('申請書（様式1-1）'!$J$22="","",'申請書（様式1-1）'!$J$22) | U42: =IF('申請書（様式1-1）'!$J$24="","",'申請書（様式1-1）'!$J$24)
B44: ※申請業種
B45: 大分類記号 ― 小分類番号
B46: =IF('申請書（様式1-2）'!B17="","",'申請書（様式1-2）'!B17) | E46: ― | H46: =IF('申請書（様式1-2）'!T17="","",'申請書（様式1-2）'!T17) | K46: =IF('申請書（様式1-2）'!B18="","",'申請書（様式1-2）'!B18) | N46: ― | Q46: =IF('申請書（様式1-2）'!T18="","",'申請書（様式1-2）'!T18) | T46: =IF('申請書（様式1-2）'!B19="","",'申請書（様式1-2）'!B19) | W46: ― | Z46: =IF('申請書（様式1-2）'!T19="","",'申請書（様式1-2）'!T19) | AC46: =IF('申請書（様式1-2）'!B20="","",'申請書（様式1-2）'!B20) | AF46: ― | AI46: =IF('申請書（様式1-2）'!T20="","",'申請書（様式1-2）'!T20) | AL46: =IF('申請書（様式1-2）'!B21="","",'申請書（様式1-2）'!B21) | AO46: ― | AR46: =IF('申請書（様式1-2）'!T21="","",'申請書（様式1-2）'!T21)
B47: =IF('申請書（様式1-2）'!B22="","",'申請書（様式1-2）'!B22) | E47: ― | H47: =IF('申請書（様式1-2）'!T22="","",'申請書（様式1-2）'!T22) | K47: =IF('申請書（様式1-2）'!B23="","",'申請書（様式1-2）'!B23) | N47: ― | Q47: =IF('申請書（様式1-2）'!T23="","",'申請書（様式1-2）'!T23) | T47: =IF('申請書（様式1-2）'!B24="","",'申請書（様式1-2）'!B24) | W47: ― | Z47: =IF('申請書（様式1-2）'!T24="","",'申請書（様式1-2）'!T24) | AC47: =IF('申請書（様式1-2）'!B25="","",'申請書（様式1-2）'!B25) | AF47: ― | AI47: =IF('申請書（様式1-2）'!T25="","",'申請書（様式1-2）'!T25) | AL47: =IF('申請書（様式1-2）'!B26="","",'申請書（様式1-2）'!B26) | AO47: ― | AR47: =IF('申請書（様式1-2）'!T26="","",'申請書（様式1-2）'!T26)
